BEGIN:VCALENDAR
VERSION:2.0
PRODID:-//wp-events-plugin.com//7.2.2.1//EN
BEGIN:VEVENT
UID:54@snlf.net
DTSTART;VALUE=DATE:20191206
DTEND;VALUE=DATE:20191207
DTSTAMP:20190806T204519Z
URL:https://www.snlf.net/events/snlf-journee-dhiver-2019-appel-aux-communi
 cations/
SUMMARY:SNLF - Journée d'Hiver 2019 - Appel aux Communications
DESCRIPTION:L'appel aux communications pour la Journée d'hiver 2019 de la 
 SNLF est lancé.\n\nPour soumettre vos communications\, veuillez utiliser 
 ce formulaire et le renvoyer à snlf@uliege.be pour le  10 octobre au plu
 s tard
CATEGORIES:Les news de la SNLF,Manifestations SNLF
END:VEVENT
END:VCALENDAR