BEGIN:VCALENDAR
VERSION:2.0
PRODID:-//wp-events-plugin.com//7.2.2.1//EN
BEGIN:VEVENT
UID:77@snlf.net
DTSTART:20211028T230000Z
DTEND:20211230T230000Z
DTSTAMP:20211029T130022Z
URL:https://www.snlf.net/events/groupe-de-travail-symptomes-psycho-comport
 ementaux-maladie-dalzheimer/
SUMMARY:Groupe de travail Symptômes Psycho-Comportementaux Maladie d'Alzhe
 imer
DESCRIPTION:La FCM\, la SF3PA et la SFGG vous invitent à participer à un 
 groupe de travail sur les symptômes psycho-comportementaux dans la maladi
 e d'Alzheimer et maladies apparentées.\n\nPour participer\, veuillez tél
 écharger et remplir le document suivant.\n
CATEGORIES:Autres manifestations,Les news de la SNLF
END:VEVENT
END:VCALENDAR